BEGIN:VCALENDAR
VERSION:2.0
PRODID:-//Kirche Helbe-Notter//NONSGML kigkonsult.se iCalcreator 2.30.10//
CALSCALE:GREGORIAN
METHOD:PUBLISH
UID:0a4c3f08-307a-4458-92ec-52c02fc12864
X-WR-CALNAME:iCagenda
X-WR-CALDESC:Event Management Extension for Joomla!
X-WR-RELCALID:3E26604A-50F4-4449-8B3E-E4F4932D05B5
X-WR-TIMEZONE:Europe/Berlin
BEGIN:VTIMEZONE
TZID:Europe/Berlin
BEGIN:STANDARD
TZNAME:CET
DTSTART:20251026T030000
TZOFFSETFROM:+0200
TZOFFSETTO:+0100
RDATE:20261025T030000
RDATE:20271031T030000
END:STANDARD
BEGIN:DAYLIGHT
TZNAME:CEST
DTSTART:20260329T020000
TZOFFSETFROM:+0100
TZOFFSETTO:+0200
RDATE:20270328T020000
END:DAYLIGHT
END:VTIMEZONE
BEGIN:VEVENT
UID:68e705b0-60e5-4f1f-8c14-0a96a7ae9812
DTSTAMP:20260423T085736Z
CATEGORIES:Andacht
CLASS:PUBLIC
DESCRIPTION:
DTSTART:20260503T070500Z
DTEND:20260503T070500Z
GEO:00;0
LOCATION:
ORGANIZER:
SEQUENCE:1
SUMMARY:Andacht zur Christuswallfahrt an der Kirche in Mehrstedt
TRANSP:OPAQUE
URL:https://www.cms.helbe-notter.de/index.php/gottesdienste-termine/499-and
 acht-zur-christuswallfahrt-an-der-kirche-in-mehrstedt/2026-05-03-09-05
END:VEVENT
END:VCALENDAR
