BEGIN:VCALENDAR
VERSION:2.0
PRODID:-//Kirche Helbe-Notter//NONSGML kigkonsult.se iCalcreator 2.30.10//
CALSCALE:GREGORIAN
METHOD:PUBLISH
UID:d31e6355-7c58-43da-be87-e6917c6539b7
X-WR-CALNAME:iCagenda
X-WR-CALDESC:Event Management Extension for Joomla!
X-WR-RELCALID:3E26604A-50F4-4449-8B3E-E4F4932D05B5
X-WR-TIMEZONE:Europe/Berlin
BEGIN:VTIMEZONE
TZID:Europe/Berlin
BEGIN:STANDARD
TZNAME:CET
DTSTART:20251026T030000
TZOFFSETFROM:+0200
TZOFFSETTO:+0100
RDATE:20261025T030000
END:STANDARD
BEGIN:DAYLIGHT
TZNAME:CEST
DTSTART:20260329T020000
TZOFFSETFROM:+0100
TZOFFSETTO:+0200
RDATE:20270328T020000
END:DAYLIGHT
END:VTIMEZONE
BEGIN:VEVENT
UID:e89df739-0b8d-4a81-b776-9e42dc555f1e
DTSTAMP:20260421T101007Z
CATEGORIES:Konfirmanden
CLASS:PUBLIC
DESCRIPTION:
DTSTART:20260423T150000Z
DTEND:20260423T150000Z
GEO:00;0
LOCATION:
ORGANIZER:
SEQUENCE:1
SUMMARY:Konfirmanden-Unterricht
TRANSP:OPAQUE
URL:https://www.cms.helbe-notter.de/index.php/gottesdienste-termine/205-kon
 firmanden-unterricht/2026-04-23-17-00
END:VEVENT
END:VCALENDAR
